Workbook
Name _NDI2: #REF!
Name _NDI2: #REF!
Name _NDI2: #REF!
Name _NDI2: #REF!
Name _NDI2: #REF!
Name _NDI2: #REF!
Name _NDI2: #REF!
Name _NDI2: #REF!
Name _NDI2: #REF!
Name _NDI2: #REF!
Name _RD1: #REF!
Name _RD1: #REF!
Name _RD1: #REF!
Name _RD1: #REF!
Name _RD1: #REF!
Name _RD1: #REF!
Name _RD1: #REF!
Name _RD1: #REF!
Name _RD1: #REF!
Name _RD1: #REF!
Name _RD2: #REF!
Name _RD2: #REF!
Name _RD2: #REF!
Name _RD2: #REF!
Name _RD2: #REF!
Name _RD2: #REF!
Name _RD2: #REF!
Name _RD2: #REF!
Name _RD2: #REF!
Name _RD2: #REF!
Name _RD3: #REF!
Name _RD3: #REF!
Name _RD3: #REF!
Name _RD3: #REF!
Name _RD3: #REF!
Name _RD3: #REF!
Name _RD3: #REF!
Name _RD3: #REF!
Name _RD3: #REF!
Name _RD3: #REF!
Name _RD4: #REF!
Name _RD4: #REF!
Name _RD4: #REF!
Name _RD4: #REF!
Name _RD4: #REF!
Name _RD4: #REF!
Name _RD4: #REF!
Name _RD4: #REF!
Name _RD4: #REF!
Name _RD4: #REF!
Name _RD5: #REF!
Name _RD5: #REF!
Name _RD5: #REF!
Name _RD5: #REF!
Name _RD5: #REF!
Name _RD5: #REF!
Name _RD5: #REF!
Name _RD5: #REF!
Name _RD5: #REF!
Name _RD5: #REF!

Sheet About

Sheet General Parameters
A2: Demand Parameters | B2: Study Inputs (for reference) | C2: USER INPUT TO WHITE CELLS ONLY | D2: Units | E2: Comments
A3: Process heat energy demand | B3: Various | C3: 150000 | D3: GJ/year | E3: All technology options use this input and solve to ensure that this demand is met
A4: Equivalent constant heat load | B4: Various | C4: =C3/3.6/8760 -> 4.7564688 | D4: MWth
A5: Process Temperature (°C) | B5: Various | C5: 100 | D5: °C | E5: =IF(C5<25,"PLEASE ENTER HIGHER TEMP",IF(C5>1500,"TEMP TOO HIGH FOR SOLAR",""))
A6: Financial Parameters | B6: Study Inputs (for reference) | C6: USER INPUT TO WHITE CELLS ONLY | D6: Units | E6: Comments
A7: Loan fraction of total | B7: 0.6 | C7: 0.6 | E7: % of capex covered by debt finance, for simplicity set to 0 and only discount rate is relevant or set to 100% and only loan interest is relevant
A8: Loan period | B8: 10 | C8: 10 | D8: years | E8: Length of loan
A9: Loan interest rate (nominal) | B9: 0.075 | C9: 0.075 | D9: /year | E9: Nominal interest rate, compounded annually
A10: Discount rate for equity (nominal) | B10: 0.1 | C10: 0.1 | D10: /year | E10: Desired rate of return on equity investment, note that calculations of IRR override this
A11: Tax rate | B11: 30% or 0% | C11: 0 | D11: /year | E11: Used to calculate tax deductions - set to 0 to ignore tax issues
A12: Inflation | B12: 0.025 | C12: 0.025 | D12: /year | E12: This is applied to O&M costs and for adjustment between Real and Nominal costs and discount rates. Fuel costs have separate escalation rates entered on other sheets
A13: Depreciation period | B13: 15 | C13: 15 | D13: years | E13: Straight line depreciation used to calculate tax deductions
A14: Project life | B14: 20 | C14: 20 | D14: years | E14: Length of analysis period/system life
A15: End of life salvage value (% of initial cap) | B15: 0.05 | C15: 0.05 | E15: Residual value of capex at end of project life. This could differ between technologies but for simplicity a single value is used
A16: Notes
A17: Parameters on this sheet are common inputs to the calculations in the "Baseline", "Biomass", "Solar Thermal" and "Other" technology options sheets. Strictly speaking aspects such as financing terms may differ between options according to risk profiles etc, however for simplicity common values are used here.

Sheet Baseline
A2: Baseline | B2: Study Inputs (for reference) | C2: USER INPUT TO WHITE CELLS ONLY | D2: Units | E2: Comments | G2: Calculated | H2: Baseline | I2: Units
A3: Net contribution | B3: 1 | C3: 1 | E3: Fraction of heat demand provided by baseline gas boiler | G3: Annual gas consumption | H3: =Baseline_DCF!D21 -> 187500 | I3: GJ
A4: Name plate capacity | B4: Various | C4: 5000 | D4: kWth | E4: Thermal power rating of boiler | G4: Annual renewable fuel consumption | H4: n/a | I4: GJ
A5: Capacity Factor | B5: 0.8 | C5: =Baseline_DCF!B4 -> 0.95129376 | E5: Annual output compared to design point output over a year | G5: Year 1 gas cost | H5: =Baseline_DCF!B22 -> 1875000
A6: Installed cost | B6: Various | C6: 0 | E6: Set to zero to compare renewable options to gas savings from an existing boiler for which the investment is a sunk cost. For a comparison to a new build case, use cell G18 to estimate capex via calculator. If finance repayments are still required, enter residual amount and use this also in the "gas backup" inputs in other sheets. | G6: Year 1 renewable fuel cost | H6: n/a
A7: Variable O&M | B7: 0 | C7: 0 | D7: $/GJ | E7: O&M cost (excluding fuel) per unit of generation. Note O&M can be input as either variable, fixed or a mix. | G7: Annual process energy production | H7: =Baseline_DCF!D23 -> 150000 | I7: GJ
A8: Fixed O&M | B8: Various | C8: 0 | D8: /year | E8: Enter fixed component of O&M cost as $/year. If there is a non zero installed cost, the corresponding fraction of capex per year is calculated for reference.
B9: 0.02 | C9: =IFERROR(C8/C6,0) -> 0 | D9: capex/year | G9: Real LCOE - energy sales not taxed | H9: =Baseline_DCF!D39 -> 12.5 | I9: $/GJ
A10: Cost of input fuel | B10: Various | C10: 10 | D10: $/GJ | E10: Cost of fuel (excluding efficiency). Use marginal cost or total contract cost / annual use as appropriate. | G10: Real LCOE - energy sales taxed (relevant to third part provider model) | H10: =Baseline_DCF!D40 -> 12.5 | I10: $/GJ
A11: Fuel cost escalation rate | B11: 0.025 | C11: 0.025 | D11: /year | E11: Set to inflation to model no increase in prices 'real' terms | G11: Annualised Cost | H11: =H9*H7 -> 1875000 | I11: /year
A12: Fuel conversion efficiency | B12: 0.8 | C12: 0.8 | E12: Boiler efficiency | G12: IRR relative to baseline | H12: n/a | I12: /year
B13: =IF(C5>1,"BOILER TOO SMALL TO MEET HEAT DEMAND","") | G13: NPV relative to baseline | H13: n/a
G15: Gas Boiler Capex Estimator
G16: Name plate capacity (kW) | H16: =C4 -> 5000
G17: Cost per unit capacity ($/kW) | H17: =IFERROR(((C4/1000)*400000*(C4/1000)^-0.31)/C4,0) -> 242.87303
G18: User scale factor (to adjust installed cost if specific circumstance apply) | H18: 1
G19: Installed cost | H19: =H17*C4*H18 -> 1214365.1

Sheet Bioenergy
A2: Bioenergy | B2: Study Inputs (for reference) | C2: USER INPUT TO WHITE CELLS ONLY | D2: Units | E2: Comments | G2: Calculated | H2: Baseline | I2: Biomass + Backup | J2: Units
A3: Net fractional contribution | B3: 1 | C3: 0.5 | E3: =IF(OR(C3<=0,C3>1),"PLEASE ENTER CONTRIBUTION BETWEEN 0-100%","Fraction of heat demand to be provided by biomass") -> Fraction of heat demand to be provided by biomass | G3: Annual gas consumption | H3: =Baseline!H3 -> 187500 | I3: =Biomass_DCF!H20 -> 93750 | J3: GJ
A4: Name plate capacity | B4: Various | C4: 5000 | D4: kWth | E4: Thermal power rating of boiler | G4: Annual RE fuel consumption | H4: =Baseline!H4 -> n/a | I4: =Biomass_DCF!D20 -> 93750 | J4: GJ
A5: Capacity Factor | B5: 0.8 | C5: =Biomass_DCF!B3 -> 0.47564688 | E5: Annual output compared to design point output over a year | G5: Year 1 gas cost | H5: =Baseline!H5 -> 1875000 | I5: =Biomass_DCF!F21 -> 937500
A6: Installed cost | B6: Various | C6: =H18 -> 8189801.4 | E6: Use cell G17 to estimate capex via calculator | G6: Year 1 RE fuel cost | H6: =Baseline!H6 -> n/a | I6: =Biomass_DCF!B21 -> 468750
A7: Variable O&M | B7: 0 | C7: 0 | D7: $/GJ | E7: O&M cost (excluding fuel) per unit of generation. Note O&M can be input as either variable, fixed or a mix. | G7: Annual production | H7: =Baseline!H7 -> 150000 | I7: =Biomass_DCF!L22 -> 150000 | J7: GJ
A8: Fixed O&M | B8: 0.02 | C8: 0.02 | D8: capex/year | E8: O&M cost (excluding fuel) independent of generation | G8: Real LCOE - energy sales not taxed | H8: =Baseline!H9 -> 12.5 | I8: =Biomass_DCF!L38 -> 16.266931 | J8: $/GJ
B9: Various | C9: =C8*C6 -> 163796.03 | D9: /year | G9: Real LCOE - energy sales taxed (relevant to third part provider model) | H9: =Baseline!H10 -> 12.5 | I9: =Biomass_DCF!L39 -> 16.266931 | J9: $/GJ
A10: Cost of input fuel | B10: Various | C10: 5 | D10: $/GJ | E10: Cost of fuel (excluding efficiency) - eg wood chips have 10 -16GJ/tonne | G10: Annualised Cost | H10: =Baseline!H11 -> 1875000 | I10: =I7*I8 -> 2440039.7 | J10: /year
A11: Fuel cost escalation rate | B11: 0.025 | C11: 0.025 | D11: /year | E11: Set to inflation to model no real price increase | G11: IRR relative to baseline | H11: =Baseline!H12 -> n/a | I11: =IRR(Biomass_DCF!Z49:Z89) -> -0.048396946 | J11: /year
A12: Fuel conversion efficiency | B12: 0.8 | C12: 0.8 | E12: Boiler efficiency | G12: NPV relative to baseline | H12: =Baseline!H13 -> n/a | I12: =SUM(Biomass_DCF!AA49:AA89) -> -5841311.1
B13: =IF('General Parameters'!C4*1000*C3>C4,"BIOMASS BOILER TOO SMALL TO MEET HEAT CONTRIBUTION","")
A14: Gas fired backup | B14: =IF('General Parameters'!C4*1000>(C4+C15),"TOTAL CAPACITY TOO SMALL TO MEET HEAT DEMAND","") | G14: Bioenergy Capex Estimator
A15: Name plate capacity | B15: Various | C15: 5000 | D15: kWth | E15: =IF(C15*8760*0.0036<H7*(1-C3),"BOILER TOO SMALL TO MEET HEAT DEMAND","Thermal power rating of boiler") -> Thermal power rating of boiler | G15: Name plate capacity (kW) | H15: =C4 -> 5000
A16: Capacity Factor | B16: n/a | C16: =Biomass_DCF!F3 -> 0.47564688 | E16: Annual output compared to design point output over a year | G16: Cost per unit capacity ($/kW) | H16: =IFERROR(((C4/1000)*2737000*(C4/1000)^-0.319)/C4,0) -> 1637.9603
A17: Installed cost | B17: Various | C17: 1214365 | E17: Set to 0 to compare RE to avoided fuel costs of existing boiler, or use cell G22 to estimate capex of a new boiler. If finance payments are still due on the "baseline" system, enter the residual value from the baseline system. | G17: User scale factor | H17: 1
A18: Variable O&M | B18: 0 | C18: 0 | D18: $/GJ | E18: O&M cost (excluding fuel) per unit of generation. Note O&M can be input as either variable, fixed or a mix. | G18: Installed cost | H18: =H16*C4*H17 -> 8189801.4
A19: Fixed O&M | B19: 0.02 | C19: 0.02 | D19: capex/year | E19: O&M cost (excluding fuel) independent of generation. | G19: Gas fired backup Capex Estimator
B20: Various | C20: =C19*C17 -> 24287.3 | D20: /year | G20: Name plate capacity (kW) | H20: =C15 -> 5000
A21: Cost of input fuel | B21: 5 | C21: 10 | D21: $/GJ | E21: Cost of fuel (excluding boiler efficiency). See energy densities below. | G21: Cost per unit capacity ($/kW) | H21: =IFERROR(((C15/1000)*400000*(C15/1000)^-0.31)/C15,0) -> 242.87303
A22: Fuel cost escalation rate | B22: 0.025 | C22: 0.025 | D22: /year | E22: Set to inflation to model no real price increase. | G22: User scale factor (to adjust installed cost if specific circumstance apply) | H22: 1
A23: Fuel conversion efficiency | B23: 0.8 | C23: 0.8 | E23: Boiler efficiency | G23: Installed Cost | H23: =H21*C15*H22 -> 1214365.1
A24: Total Capital Cost | C24: =C17+C6 -> 9404166.4 | G24: Typical Energy Densities of Combustibles
G25: Bagasse (GJ/tonne) | H25: 10
G26: Firewood (GJ/tonne) | H26: 16
G27: Coal (GJ/tonne) | H27: 30
G28: Diesel (GJ/tonne) | H28: 48
G29: Methane (GJ/tonne) | H29: 55

Sheet  Solar-thermal
A2: Solar thermal | B2: Study Inputs (for reference) | C2: USER INPUT TO WHITE CELLS ONLY | D2: Units | E2: Comments | G2: Calculated | H2: Baseline | I2: Solar + Backup | J2: Units
A3: Net fractional contribution | B3: 1 | C3: 0.5 | E3: =IF(OR(C3<=0,C3>1),"PLEASE ENTER CONTRIBUTION BETWEEN 0-100%","Fraction of heat demand to be provided by solar (Choose desired value, but note values above 80% are not realistic )") -> Fraction of heat demand to be provided by solar (Choose desired value, but note values above 80% are not realistic ) | G3: Annual gas consumption | H3: =Baseline!H3 -> 187500 | I3: =Solar_DCF!L20 -> 93750 | J3: GJ
A4: Capacity factor | B4: Various | C4: =H33 -> 0.330219 | E4: Annual output compared to design point output over a year
A5: Name plate capacity | B5: Various | C5: =H34 -> 7201.9915 | D5: kWth | E5: Enter irradiance into Solar Production Estimator to estimate thermal power capacity of solar collector | G5: Annual RE fuel consumption | H5: =Baseline!H4 -> n/a | I5: =Solar_DCF!B20 -> 0 | J5: GJ
A6: Installed cost | B6: Various | C6: =H21 -> 3740877.4 | E6: Use cell G18 to estimate capex via calculator | G6: Year 1 gas cost | H6: =Baseline!H5 -> 1875000 | I6: =Solar_DCF!J21 -> 937500
A7: Variable O&M | B7: 0 | C7: 0 | D7: $/GJ | E7: O&M cost (excluding fuel) per unit of generation. Note O&M can be input as either variable, fixed or a mix. | G7: Year 1 RE fuel cost | H7: =Baseline!H6 -> n/a | I7: =Solar_DCF!B21 -> 0
A8: Fixed O&M | B8: 0.02 | C8: 0.02 | D8: capex/year | E8: O&M cost (excluding fuel) independent of generation | G8: Annual production | H8: =Baseline!H7 -> 150000 | I8: =Solar_DCF!L22 -> 150000 | J8: GJ
B9: Various | C9: =C8*C6 -> 74817.548 | D9: /year | G9: Real LCOE - energy sales not taxed | H9: =Baseline!H9 -> 12.5 | I9: =Solar_DCF!L38 -> 9.8814957 | J9: $/GJ
A10: Cost of input fuel | B10: n/a | C10: n/a | D10: $/GJ | E10: Cost of fuel (excluding efficiency) | G10: Real LCOE - energy sales taxed (relevant to third party provider model) | H10: =Baseline!H10 -> 12.5 | I10: =Solar_DCF!L39 -> 9.8814957 | J10: $/GJ
A11: Fuel cost escalation rate | B11: n/a | C11: n/a | D11: /year | E11: No fuel cost | G11: Annualised Cost | H11: =Baseline!H11 -> 1875000 | I11: =I8*I9 -> 1482224.4 | J11: /year
A12: Fuel conversion efficiency | B12: n/a | C12: n/a | E12: No fuel use | G12: IRR relative to baseline | H12: =Baseline!H12 -> n/a | I12: =IRR(Solar_DCF!Z49:Z89) -> 0.27243256 | J12: /year
A13: Backup | B13: =IF(C15>1,"BACKUP BOILER TOO SMALL TO MEET HEAT DEMAND","") | G13: NPV relative to baseline | H13: =Baseline!H13 -> n/a | I13: =SUM(Solar_DCF!AA49:AA89) -> 4060466.8
A14: Name plate capacity | B14: Various | C14: 5000 | D14: kWth | E14: =IF(C14*8760*0.0036<H8*(1-C3),"BOILER TOO SMALL TO MEET HEAT DEMAND","Thermal power rating of boiler") -> Thermal power rating of boiler
A15: Capacity Factor | B15: n/a | C15: =Solar_DCF!F3 -> 0.47564688 | E15: Annual output compared to design point output over a year
A16: Installed cost | B16: Various | C16: =H26 -> 1214365.1 | E16: Set to 0 to compare RE to avoided fuel costs of existing boiler, or use cell G23 to estimate capex of a new boiler. If finance payments are still due on the "baseline" system, enter the residual value from the baseline system. | G16: Solar Capex Estimator (estimation includes an approximate amount of storage for one day, uses scale factor if more required)
A17: Variable O&M | B17: 0 | C17: 0 | D17: $/GJ | E17: O&M cost (excluding fuel) per unit of generation. Note O&M can be input as either variable, fixed or a mix. | G17: Name plate capacity (kW) | H17: =H34 -> 7201.9915
A18: Fixed O&M | B18: 0.02 | C18: 0.02 | D18: capex/year | E18: O&M cost (excluding fuel) independent of generation. | G18: Temperature (°C) | H18: ='General Parameters'!C5 -> 100
B19: Various | C19: =C18*C16 -> 24287.303 | D19: /year | G19: Cost per unit capacity ($/kW) | H19: =IFERROR('Solar Calculator'!B30+'General Parameters'!C5*'Solar Calculator'!B31,0) -> 519.42263
A20: Cost of input fuel | B20: 5 | C20: 10 | D20: $/GJ | E20: Cost of fuel (excluding boiler efficiency). | G20: User scale factor (to adjust installed cost if specific circumstance apply) | H20: 1
A21: Fuel cost escalation rate | B21: 0.025 | C21: 0.025 | D21: /year | E21: Set to inflation to model no real price increase. | G21: Installed cost | H21: =H19*H34*H20 -> 3740877.4
A22: Fuel conversion efficiency | B22: 0.8 | C22: 0.8 | E22: Fuel efficiency. | G22: Backup Capex Estimator
A23: Total Capital Cost | C23: =C16+C6 -> 4955242.5 | G23: Name plate capacity (kW) | H23: =C14 -> 5000
G24: Cost per unit capacity ($/kW) | H24: =IFERROR(((C14/1000)*400000*(C14/1000)^-0.31)/C14,0) -> 242.87303
A25: Notes | G25: User scale factor (to adjust installed cost if specific circumstance apply) | H25: 1
A26: Identify site on map below and enter solar radiation level (GHI) to solar production estimator. This will establish the size of solar array needed to provide the desired level of process energy production. Note that the system costing estimator allows for enough storage for one days load. Unless the load can be adjusted to suit solar availability (day to day or seasonally), then specifying 100% solar is not realistic although it does provide a good starting point for comparison. | G26: Installed Cost | H26: =H24*C14*H25 -> 1214365.1
G29: Solar Production Estimator
G30: Annual average irradiation (MJ/m2/day) | H30: 20
G31: Temperature (°C) | H31: ='General Parameters'!C5 -> 100
G32: Net contribution | H32: =C3 -> 0.5
G33: Capacity factor | H33: ='Solar Calculator'!K24 -> 0.330219
G34: Capacity (kWth) | H34: =C3*'General Parameters'!C3/(8760*'Solar Calculator'!K24)/0.0036 -> 7201.9915

Sheet Heat Pump
A2: Heat Pump | B2: Study Inputs (for reference) | C2: USER INPUT TO WHITE CELLS ONLY | D2: Units | E2: Comments | G2: Calculated | H2: Baseline | I2: Heat Pump | J2: Units
A3: Net fractional contribution | B3: 1 | C3: 0.5 | E3: =IF(OR(C3<=0,C3>1),"PLEASE ENTER CONTRIBUTION BETWEEN 0-100%","Fraction of heat demand to be provided by heat pump") -> Fraction of heat demand to be provided by heat pump | G3: Annual gas consumption | H3: =Baseline!H3 -> 187500 | I3: 0 | J3: GJ
A4: Capacity Factor | B4: 0.8 | C4: 0.8 | E4: Fraction of time heat pump is operating | G4: Annual RE electricity consumption | H4: =Baseline!H4 -> n/a | I4: =HeatPump_DCF!B21/1000 -> 8932.9581 | J4: MWh
A5: Name plate capacity | B5: Various | C5: =1000*C3*'General Parameters'!C3/3.6/H17/(8760*C4) -> 1274.6801 | D5: kWe | E5: Electrical capacity of a heat pump meeting the thermal load at the specified capacity factor | G5: Year 1 gas cost | H5: =Baseline!H5 -> 1875000 | I5: 0
A6: Installed cost | B6: Various | C6: =H20 -> 1114060.3 | E6: Use cell G18 to estimate capex via calculator | G6: Year 1 RE fuel cost | H6: =Baseline!H6 -> n/a | I6: =HeatPump_DCF!B22 -> 893295.81
A7: Variable O&M | B7: 0 | C7: 0 | D7: $/GJ | E7: O&M cost (excluding fuel) per unit of generation. Note O&M can be input as either variable, fixed or a mix. | G7: Annual production | H7: =Baseline!H7 -> 150000 | I7: =HeatPump_DCF!D23 -> 75000 | J7: GJ
A8: Fixed O&M | B8: 0.02 | C8: 0.02 | D8: capex/year | E8: O&M cost (excluding fuel) independent of generation | G8: Real LCOE - energy sales not taxed | H8: =Baseline!H9 -> 12.5 | I8: =HeatPump_DCF!D39 -> 13.54351 | J8: $/GJ
B9: Various | C9: =C8*C6 -> 22281.206 | D9: /year | G9: Real LCOE - energy sales taxed (relevant to third party provider model) | H9: =Baseline!H10 -> 12.5 | I9: =HeatPump_DCF!D40 -> 13.54351 | J9: $/GJ
A10: Cost of electricity | B10: 10 | C10: 10 | D10: c/kWh | E10: Cost of consumption component of electricity tariff | G10: Annualised Cost | H10: =Baseline!H11 -> 1875000 | I10: =I7*I8 -> 1015763.2 | J10: /year
A11: Electricity cost escalation rate | B11: 0.025 | C11: 0.025 | D11: /year | E11: Set to inflation to model no real price increase | G11: IRR relative to baseline | H11: =Baseline!H12 -> n/a | I11: =IRR(HeatPump_DCF!X49:X89) -> 2.3092328 | J11: /year
A12: Electricity conversion efficiency | B12: Various | C12: =H17 -> 2.3321875 | E12: Electrical to thermal conversion efficiency (Coefficient of performance) | G12: NPV relative to baseline | H12: =Baseline!H13 -> n/a | I12: =SUM(HeatPump_DCF!Y49:Y89) -> 13655204
A13: Total Capital Cost
B14: =IF('General Parameters'!C5>150,"HEAT PUMPS UNLIKELY TO BE APPROPRIATE BEYOND 150 C","") | G14: Heat Pump Capex Estimator
G15: Name plate capacity (kWe) | H15: =C5 -> 1274.6801
G16: Relative thermodynamic efficiency | H16: 0.5
G17: Coefficient of Performance (kWth/kWe) | H17: =IF((H16*('General Parameters'!C5+273.15)/('General Parameters'!C5-20))<1,1,H16*('General Parameters'!C5+273.15)/('General Parameters'!C5-20)) -> 2.3321875
G18: Cost per unit capacity ($/kWe) | H18: =(940000/1000^0.7)*H15^-0.3 -> 873.99207
G19: User scale factor (to adjust installed cost if specific circumstance apply) | H19: 1
G20: Installed cost | H20: =H15*H18*H19 -> 1114060.3

Sheet Geothermal
A2: Geothermal | B2: Study Inputs (for reference) | C2: USER INPUT TO WHITE CELLS ONLY | D2: Units | E2: Comments | G2: Calculated | H2: Baseline | I2: Geothermal | J2: Units
A3: Net fractional contribution | B3: 1 | C3: 0.7 | E3: Fraction of heat demand to be provided by geothermal | G3: Annual gas consumption | H3: =Baseline!H3 -> 187500 | I3: 0 | J3: GJ
A4: Aquifer Depth | B4: Various | C4: 2000 | D4: m | E4: Depth at which aquifer can be reached | G4: Annual RE fuel consumption | H4: =Baseline!H4 -> n/a | I4: =Geo_DCF!B21/1000 -> 695.9716 | J4: MWhe
A5: Maximum Flow Rate | B5: Various | C5: 10 | D5: L/s | E5: Likely values between 10-100 L/s, depending on porosity of rock
A6: Aquifer temperature | B6: Various | C6: 100 | D6: °C | E6: Temperature of aquifer | G6: Year 1 gas cost | H6: =Baseline!H5 -> 1875000 | I6: 0
A7: Name plate capacity | B7: Various | C7: =H17*C5*4.186*(C6-20) -> 3348.8 | D7: kWth | E7: Thermal rating of wells at maximum flow rate | G7: Year 1 RE fuel cost | H7: =Baseline!H6 -> n/a | I7: =Geo_DCF!B22 -> 69597.16
A8: Capacity Factor | B8: Various | C8: =Geo_DCF!B4 -> 0.99424515 | E8: Utilisation of total potential heat output over a year | G8: Annual production | H8: =Baseline!H7 -> 150000 | I8: =Geo_DCF!D23 -> 105000 | J8: GJ
A9: Installed cost | B9: Various | C9: =H20 -> 5440000 | E9: Use cell G18 to estimate capex via calculator | G9: Real LCOE - energy sales not taxed | H9: =Baseline!H9 -> 12.5 | I9: =Geo_DCF!D39 -> 6.358194 | J9: $/GJ
A10: Variable O&M | B10: 0 | C10: 0 | D10: $/GJ | E10: O&M cost (excluding fuel) per unit of generation. Note O&M can be input as either variable, fixed or a mix. | G10: Real LCOE - energy sales taxed (relevant to third party provider model) | H10: =Baseline!H10 -> 12.5 | I10: =Geo_DCF!D40 -> 6.358194 | J10: $/GJ
A11: Fixed O&M | B11: 0.02 | C11: 0.02 | D11: capex/year | E11: O&M cost (excluding fuel) independent of generation | G11: Annualised Cost | H11: =Baseline!H11 -> 1875000 | I11: =I8*I9 -> 667610.37 | J11: /year
B12: Various | C12: =C11*C9 -> 108800 | D12: /year | G12: IRR relative to baseline | H12: =Baseline!H12 -> n/a | I12: =IRR(Geo_DCF!X49:X89) -> 0.67322359 | J12: /year
A13: Cost of electricity | B13: 10 | C13: 10 | D13: c/kWh | E13: Cost of consumption component of electricity tariff | G13: NPV relative to baseline | H13: =Baseline!H13 -> n/a | I13: =SUM(Geo_DCF!Y49:Y89) -> 14333110
A14: Electricity cost escalation rate | B14: 0.025 | C14: 0.025 | D14: /year | E14: Set to inflation to model no real price increase
A15: Electricity conversion efficiency | B15: n/a | C15: =Geo_DCF!B19 -> 41.90784 | E15: Thermal output relative to electricity required to drive pumps | G15: Geothermal Capex Estimator
A16: Total Capital Cost | C16: =C9 -> 5440000 | G16: Well Doublet Depth (m) | H16: =C4*1.6 -> 3200
B17: =IF('General Parameters'!C5>C6,"AQUIFER TEMPERATURE INSUFFICIENT","") | G17: Number of Wells | H17: =ROUNDUP(C3*'General Parameters'!C3/(Geothermal!C5*4186*(Geothermal!C6-20)*60*60*8760/1000000000),0) -> 1
G18: Cost per metre (first well) | H18: =IF(C4>2000,2500,1700) -> 1700
G19: User scale factor (to adjust installed cost if specific circumstance apply) | H19: 1
G20: Installed cost | H20: =H16*H18*H19*H17^0.7 -> 5440000

Sheet Other
A2: Other | B2: Study Inputs (for reference) | C2: USER INPUT TO WHITE CELLS ONLY | D2: Units | E2: Comments | G2: Calculated | H2: Baseline | I2: Other + Backup | J2: Units
A3: Net fractional contribution | B3: n/a | C3: 0.8 | E3: =IF(OR(C3<=0,C3>1),"PLEASE ENTER CONTRIBUTION BETWEEN 0-100%","Fraction of heat demand to be provided by other") -> Fraction of heat demand to be provided by other | G3: Annual gas consumption | H3: =Baseline!H3 -> 187500 | I3: =Other_DCF!H20 -> 37500 | J3: GJ
A4: Name plate capacity | B4: n/a | C4: 5000 | D4: kWth | E4: Thermal power rating of boiler | G4: Annual RE fuel consumption | H4: =Baseline!H4 -> n/a | I4: =Other_DCF!D20 -> 150000 | J4: GJ
A5: Capacity Factor | B5: 0.8 | C5: =Other_DCF!B3 -> 0.76103501 | E5: Annual output compared to design point output over a year | G5: Year 1 gas cost | H5: =Baseline!H5 -> 1875000 | I5: =Other_DCF!F21 -> 375000
A6: Installed cost | B6: n/a | C6: 8189801.4 | E6: Use cell G17 to estimate capex via calculator | G6: Year 1 RE fuel cost | H6: =Baseline!H6 -> n/a | I6: =Other_DCF!B21 -> 0
A7: Variable O&M | B7: n/a | C7: 0 | D7: $/GJ | E7: O&M cost (excluding fuel) per unit of generation | G7: Annual production | H7: =Baseline!H7 -> 150000 | I7: =Other_DCF!L22 -> 150000 | J7: GJ
A8: Fixed O&M | B8: n/a | C8: 0.02 | D8: capex/year | E8: O&M cost (excluding fuel) independent of generation | G8: Real LCOE - energy sales not taxed | H8: =Baseline!H9 -> 12.5 | I8: =Other_DCF!L38 -> 9.3919311 | J8: $/GJ
B9: Various | C9: =C8*C6 -> 163796.03 | D9: /year | G9: Real LCOE - energy sales taxed (relevant to third part provider model) | H9: =Baseline!H10 -> 12.5 | I9: =Other_DCF!L39 -> 9.3919311 | J9: $/GJ
A10: Cost of input fuel | B10: n/a | C10: 0 | D10: $/GJ | E10: Cost of fuel (excluding efficiency) | G10: Annualised Cost | H10: =Baseline!H11 -> 1875000 | I10: =I7*I8 -> 1408789.7 | J10: /year
A11: Fuel cost escalation rate | B11: n/a | C11: 0.025 | D11: /year | E11: Set to inflation to model no real price increase | G11: IRR relative to baseline | H11: =Baseline!H12 -> n/a | I11: =IRR(Other_DCF!Z49:Z89) -> 0.20659901 | J11: /year
A12: Fuel conversion efficiency | B12: n/a | C12: 0.8 | G12: NPV relative to baseline | H12: =Baseline!H13 -> n/a | I12: =SUM(Other_DCF!AA49:AA89) -> 4819625.6
A13: Backup
A14: Name plate capacity | B14: Various | C14: 5000 | D14: kWth | E14: =IF(C14*8760*0.0036<H7*(1-C3),"BOILER TOO SMALL TO MEET HEAT DEMAND","Thermal power rating of boiler") -> Thermal power rating of boiler
A15: Capacity Factor | B15: 0.8 | C15: =Other_DCF!F3 -> 0.19025875 | E15: Annual output compared to design point output over a year
A16: Installed cost | B16: Various | C16: 1214365.1 | E16: Set to 0 to compare RE to avoided fuel costs of existing boiler, or use cell G22 to estimate capex of a new boiler. If finance payments are still due on the "baseline" system, enter the residual value from the baseline system.
A17: Variable O&M | B17: 0 | C17: 0 | D17: $/GJ | E17: O&M cost (excluding fuel) per unit of generation. Note O&M can be input as either variable, fixed or a mix. | G17: NatGas Boiler Capex Estimator
A18: Fixed O&M | B18: 0.02 | C18: 0.02 | D18: capex/year | E18: O&M cost (excluding fuel) independent of generation. | G18: Name plate capacity (kW) | H18: =C14 -> 5000
B19: Various | C19: =C18*C16 -> 24287.303 | D19: /year | G19: Cost per unit capacity ($/kW) | H19: =IFERROR(((C14/1000)*400000*(C14/1000)^-0.31)/C14,0) -> 242.87303
A20: Cost of input fuel | B20: 5 | C20: 10 | D20: $/GJ | E20: Cost of fuel (excluding boiler efficiency). | G20: User scale factor (to adjust installed cost if specific circumstance apply) | H20: 1
A21: Fuel cost escalation rate | B21: 0.025 | C21: 0.025 | D21: /year | E21: Set to inflation to model no real price increase. | G21: Installed Cost | H21: =H19*C14*H20 -> 1214365.1
A22: Fuel conversion efficiency | B22: 0.8 | C22: 0.8 | E22: Fuel efficiency.
A23: Total Capital Cost | C23: =C16+C6 -> 9404166.5 | D23: =IF(C5>1,"MAIN BOILER TOO SMALL TO MEET HEAT CONTRIBUTION","")

Sheet Summary
A2: Demand Parameters | C2: Units
A3: Process heat energy demand | B3: ='General Parameters'!C3 -> 150000 | C3: GJ/year
A4: Process Temperature (°C) | B4: ='General Parameters'!C5 -> 100 | C4: °C
A5: Summary of Options | B5: Baseline | C5: Bioenergy | D5: Solar | E5: Heat Pump | F5: Geothermal | G5: Other
A6: Net RE Contribution | B6: n/a | C6: =Bioenergy!C3 -> 0.5 | D6: =' Solar-thermal'!C3 -> 0.5 | E6: ='Heat Pump'!C3 -> 0.5 | F6: =Geothermal!C3 -> 0.7 | G6: =Other!C3 -> 0.8
A7: Name plate capacity | B7: =Baseline!C4 -> 5000 | C7: =Bioenergy!C4 -> 5000 | D7: =' Solar-thermal'!C5 -> 7201.9915 | E7: ='Heat Pump'!C5 -> 1274.6801 | F7: =Geothermal!C7 -> 3348.8 | G7: =Other!C4 -> 5000 | H7: kWth
A8: Installed cost RE | B8: =Baseline!C6 -> 0 | C8: =Bioenergy!C6 -> 8189801.4 | D8: =' Solar-thermal'!C6 -> 3740877.4 | E8: ='Heat Pump'!C6 -> 1114060.3 | F8: =Geothermal!C16 -> 5440000 | G8: =Other!C6 -> 8189801.4
A9: Variable O&M | B9: =Baseline!C7 -> 0 | C9: =Bioenergy!C7 -> 0 | D9: =' Solar-thermal'!C7 -> 0 | E9: ='Heat Pump'!C7 -> 0 | F9: =Geothermal!C10 -> 0 | G9: =Other!C7 -> 0 | H9: $/GJ
A10: Fixed O&M | B10: =Baseline!C8 -> 0 | C10: =Bioenergy!C9 -> 163796.03 | D10: =' Solar-thermal'!C8 -> 0.02 | E10: ='Heat Pump'!C8 -> 0.02 | F10: =Geothermal!C11 -> 0.02 | G10: =Other!C8 -> 0.02 | H10: capex/year
A11: Cost of input fuel | B11: =Baseline!C10 -> 10 | C11: =Bioenergy!C10 -> 5 | D11: =' Solar-thermal'!C10 -> n/a | E11: =HeatPump_DCF!B17 -> 27.777778 | F11: =Geo_DCF!B17 -> 27.777778 | G11: =Other!C10 -> 0 | H11: $/GJ
A12: Fuel cost escalation rate | B12: =Baseline!C11 -> 0.025 | C12: =Bioenergy!C11 -> 0.025 | D12: =' Solar-thermal'!C11 -> n/a | E12: ='Heat Pump'!C11 -> 0.025 | F12: =Geothermal!C14 -> 0.025 | G12: =Other!C11 -> 0.025 | H12: /year
A13: Fuel conversion efficiency | B13: =Baseline!C12 -> 0.8 | C13: =Bioenergy!C12 -> 0.8 | D13: =' Solar-thermal'!C12 -> n/a | E13: ='Heat Pump'!C12 -> 2.3321875 | F13: =Geothermal!C15 -> 41.90784 | G13: =Other!C12 -> 0.8
A14: Backup capacity | B14: 0 | C14: =Bioenergy!C15 -> 5000 | D14: =' Solar-thermal'!C14 -> 5000 | E14: 0 | F14: 0 | G14: 0 | H14: kWth
A15: Backup cost | C15: =Bioenergy!C17 -> 1214365 | D15: =' Solar-thermal'!C16 -> 1214365.1
A16: Total installed cost | C16: =Bioenergy!C24 -> 9404166.4 | D16: =' Solar-thermal'!C23 -> 4955242.5
A17: Warnings | B17: =Baseline!B13 | C17: =IF(Bioenergy!B14="",Bioenergy!B13,Bioenergy!B14) | D17: =' Solar-thermal'!B13 | E17: ='Heat Pump'!B14 | F17: =Geothermal!B17 | G17: =IF(Other!B24="",Other!D23,Other!B24)
A18: Calculated
A19: Annual gas consumption | B19: =Baseline!H3 -> 187500 | C19: =Bioenergy!I3 -> 93750 | D19: =' Solar-thermal'!I3 -> 93750 | E19: ='Heat Pump'!I3 -> 0 | F19: =Geothermal!I3 -> 0 | G19: =Other!I3 -> 37500 | H19: GJ
A20: Annual RE fuel consumption | B20: =Baseline!H4 -> n/a | C20: =Bioenergy!I4 -> 93750 | D20: =' Solar-thermal'!I5 -> 0 | E20: =HeatPump_DCF!D21 -> 32158.649 | F20: =Geo_DCF!D21 -> 2505.4978 | G20: =Other!I4 -> 150000 | H20: GJ
A21: Year 1 gas cost | B21: =Baseline!H5 -> 1875000 | C21: =Bioenergy!I5 -> 937500 | D21: =' Solar-thermal'!I6 -> 937500 | E21: ='Heat Pump'!I5 -> 0 | F21: =Geothermal!I6 -> 0 | G21: =Other!I5 -> 375000
A22: Year 1 RE fuel cost | B22: =Baseline!H6 -> n/a | C22: =Bioenergy!I6 -> 468750 | D22: =' Solar-thermal'!I7 -> 0 | E22: ='Heat Pump'!I6 -> 893295.81 | F22: =Geothermal!I7 -> 69597.16 | G22: =Other!I6 -> 0
A23: Annual production | B23: =Baseline!H7 -> 150000 | C23: =Bioenergy!I7 -> 150000 | D23: =' Solar-thermal'!I8 -> 150000 | E23: ='Heat Pump'!I7 -> 75000 | F23: =Geothermal!I8 -> 105000 | G23: =Other!I7 -> 150000
A24: Real LCOE (energy sales not taxed) | B24: =Baseline!H9 -> 12.5 | C24: =Bioenergy!I8 -> 16.266931 | D24: =' Solar-thermal'!I9 -> 9.8814957 | E24: ='Heat Pump'!I8 -> 13.54351 | F24: =Geothermal!I9 -> 6.358194 | G24: =Other!I8 -> 9.3919311 | H24: $/GJ
A25: Real LCOE (energy sales taxed) | B25: =Baseline!H10 -> 12.5 | C25: =Bioenergy!I9 -> 16.266931 | D25: =' Solar-thermal'!I10 -> 9.8814957 | E25: ='Heat Pump'!I9 -> 13.54351 | F25: =Geothermal!I10 -> 6.358194 | G25: =Other!I9 -> 9.3919311 | H25: $/GJ
A26: Annualised Cost | B26: =Baseline!H11 -> 1875000 | C26: =Bioenergy!I10 -> 2440039.7 | D26: =' Solar-thermal'!I11 -> 1482224.4 | E26: ='Heat Pump'!I10 -> 1015763.2 | F26: =Geothermal!I11 -> 667610.37 | G26: =Other!I10 -> 1408789.7 | H26: /year
A27: IRR relative to baseline | B27: =Baseline!H12 -> n/a | C27: =Bioenergy!I11 -> -0.048396946 | D27: =' Solar-thermal'!I12 -> 0.27243256 | E27: ='Heat Pump'!I11 -> 2.3092328 | F27: =Geothermal!I12 -> 0.67322359 | G27: =Other!I11 -> 0.20659901 | H27: /year
A28: NPV relative to baseline | B28: =Baseline!H13 -> n/a | C28: =Bioenergy!I12 -> -5841311.1 | D28: =' Solar-thermal'!I13 -> 4060466.8 | E28: ='Heat Pump'!I12 -> 13655204 | F28: =Geothermal!I13 -> 14333110 | G28: =Other!I12 -> 4819625.6

Sheet Baseline_DCF
A1: OPTION 1
A2: USER INPUTS | B2: Do not edit tan cells
A3: Name plate capacity | B3: =Baseline!C4 -> 5000 | C3: kWth
A4: Capacity factor | B4: ='General Parameters'!C3/(Baseline_DCF!B3*8760*0.0036) -> 0.95129376
A5: Installed cost / unit capacity | B5: =IFERROR(Baseline!C6/Baseline!C4,0) -> 0 | C5: $/kWth
A6: Loan fraction of total | B6: ='General Parameters'!C7 -> 0.6
A7: Loan period | B7: ='General Parameters'!C8 -> 10 | C7: Years
A8: Loan interest rate (nominal) | B8: ='General Parameters'!C9 -> 0.075 | C8: /year
A9: Discount rate for equity (nominal) | B9: ='General Parameters'!C10 -> 0.1 | C9: /year
A10: Tax Rate | B10: ='General Parameters'!C11 -> 0 | C10: /year
A11: Depreciation period | B11: ='General Parameters'!C13 -> 15 | C11: year
A12: Project Life | B12: ='General Parameters'!C14 -> 20 | C12: year
A13: End of life salvage value (%of initial cap) | B13: ='General Parameters'!C15 -> 0.05 | C13: /year
A14: Variable o&m (year 0) | B14: =Baseline!C7 -> 0 | C14: $/GJ | D14: =B14/0.0036 -> 0 | E14: $/kWhth
A15: Fixed O&M (fraction of capital cost/yr in year 0) | B15: =Baseline!C9 -> 0 | C15: /year
A16: Inflation | B16: ='General Parameters'!C12 -> 0.025 | C16: /year
A17: Cost of input fuel | B17: =Baseline!C10 -> 10 | C17: $/GJ | D17: =B17*0.0036 -> 0.036 | E17: $/kWhth
A18: Fuel cost escalation rate | B18: =Baseline!C11 -> 0.025
A19: Conversion efficiency | B19: =Baseline!C12 -> 0.8
A20: CALCULATED
A21: annual fuel consumption | B21: =B23/B19 -> 52083333 | C21: kWhth | D21: =D23/B19 -> 187500
A22: year 1 fuel cost | B22: =B21*B17*0.0036 -> 1875000
A23: Annual production | B23: =B3*B4*365*24 -> 41666667 | C23: kWhth | D23: =B23*0.0036 -> 150000 | E23: GJ
A24: Initial Capital cost | B24: =B5*B3 -> 0 | C24: $
A25: End of life salvage value | B25: =B13*B24 -> 0 | C25: $
A26: Loan amount | B26: =B24*B6 -> 0 | C26: $
A27: Equity amount | B27: =B24-B26 -> 0 | C27: $
A28: Annualisation factor for loan | B28: =(B8*(1+B8)^B7)/((1+B8)^B7-1) -> 0.14568593 | C28: /year
A29: Annual loan payment | B29: =B28*B26 -> 0 | C29: $/year
A30: Capital recovery factor for nominal discount rate | B30: =(B9*(1+B9)^B12)/((1+B9)^B12-1) -> 0.11745962 | C30: /year
A31: Real discount rate for equity | B31: =(1+B9)/(1+B16)-1 -> 0.073170732
A32: Capital recovery factor for real discount | B32: =(B31*(1+B31)^B12)/((1+B31)^B12-1) -> 0.096731649
A33: Annual real depreciation (nominal???) | B33: =B24/B11 -> 0 | C33: $
A34: Net Present value of annual costs | B34: =-SUM(Baseline_DCF!V50:V89) -> 19383522 | C34: $
A35: NPV of salvage after tax | B35: =B25/(1+B9)^B12*(1-B10) -> 0 | C35: $
A36: NPV of project life costs after tax | B36: =B24-B26+B34 -> 19383522 | C36: $
A37: Nominal LCOE (energy sales not taxed) | B37: =B30*$B$36/($B$23) -> 0.054642748 | C37: $/kWh | D37: =B37/0.0036 -> 15.178541 | E37: $/GJ
A38: Nominal LCOE (energy sales taxed) | B38: =B37/(1-B10) -> 0.054642748 | C38: $/kWh | D38: =B38/0.0036 -> 15.178541 | E38: $/GJ
A39: Real LCOE (energy sales not taxed) | B39: =B32*$B$36/($B$23) -> 0.045 | C39: $/kWh | D39: =B39/0.0036 -> 12.5 | E39: $/GJ
A40: Real LCOE (energy sales taxed) | B40: =B39/(1-B10) -> 0.045 | C40: $/kWh | D40: =B40/0.0036 -> 12.5 | E40: $/GJ
...

Sheet Biomass_DCF
A1: Inputs | B1: =Bioenergy!A2 -> Bioenergy | F1: =Bioenergy!A14 -> Gas fired backup
A2: Name plate capacity | B2: =Bioenergy!C4 -> 5000 | C2: kWth | F2: =Bioenergy!C15 -> 5000 | G2: kWth
A3: Capacity factor | B3: =Bioenergy!C3*Bioenergy!H7/(Bioenergy!C4*8760*0.0036) -> 0.47564688 | F3: =IFERROR(('General Parameters'!C3-D22)/(F2*8760)/0.0036,0) -> 0.47564688
A4: Installed cost / unit capacity | B4: =IFERROR(Bioenergy!C6/Bioenergy!C4,0) -> 1637.9603 | C4: $/kWth | F4: =IFERROR(Bioenergy!C17/Bioenergy!C15,0) -> 242.873 | G4: $/kWth
A5: Loan fraction of total | B5: ='General Parameters'!C7 -> 0.6 | F5: ='General Parameters'!C7 -> 0.6
A6: Loan period | B6: ='General Parameters'!C8 -> 10 | C6: Years | F6: ='General Parameters'!C8 -> 10 | G6: Years
A7: Loan interest rate (nominal) | B7: ='General Parameters'!C9 -> 0.075 | C7: /year | F7: ='General Parameters'!C9 -> 0.075 | G7: /year
A8: Discount rate for equity (nominal) | B8: ='General Parameters'!C10 -> 0.1 | C8: /year | F8: ='General Parameters'!C10 -> 0.1 | G8: /year
A9: Tax Rate | B9: ='General Parameters'!C11 -> 0 | C9: /year | F9: ='General Parameters'!C11 -> 0 | G9: /year
A10: Inflation | B10: ='General Parameters'!C12 -> 0.025 | C10: /year | F10: ='General Parameters'!C12 -> 0.025 | G10: /year
A11: Depreciation period | B11: ='General Parameters'!C13 -> 15 | C11: year | F11: ='General Parameters'!C13 -> 15 | G11: year
A12: Project Life | B12: ='General Parameters'!C14 -> 20 | C12: year | F12: ='General Parameters'!C14 -> 20 | G12: year
A13: End of life salvage value (%of initial cap) | B13: ='General Parameters'!C15 -> 0.05 | F13: ='General Parameters'!C15 -> 0.05
A14: Variable o&m (year 0) | B14: =Bioenergy!C7 -> 0 | C14: $/GJ | D14: =B14*0.0036 -> 0 | E14: $/kWhth | F14: =Bioenergy!C18 -> 0 | G14: $/GJ | H14: =F14*0.0036 -> 0 | I14: $/kWhth
A15: Fixed O&M (fraction of capital cost/yr in year 0) | B15: =Bioenergy!C8 -> 0.02 | C15: /year | F15: =Bioenergy!C19 -> 0.02 | G15: /year
A16: Cost of input fuel | B16: =Bioenergy!C10 -> 5 | C16: $/GJ | D16: =B16*0.0036 -> 0.018 | E16: $/kWhth | F16: =Bioenergy!C21 -> 10 | G16: $/GJ | H16: =F16*0.0036 -> 0.036 | I16: $/kWhth
A17: Fuel cost escalation rate | B17: =Bioenergy!C11 -> 0.025 | F17: =Bioenergy!C22 -> 0.025
A18: Conversion efficiency | B18: =Bioenergy!C12 -> 0.8 | F18: =Bioenergy!C23 -> 0.8
A19: Calculated | B19: =B1 -> Bioenergy | F19: =F1 -> Gas fired backup | J19: Total
A20: annual fuel consumption | B20: =B22/B18 -> 26041667 | C20: kWhth | D20: =B20*0.0036 -> 93750 | F20: =F22/F18 -> 26041667 | G20: kWhth | H20: =F20*0.0036 -> 93750 | J20: =B20+F20 -> 52083333 | K20: kWhth | L20: =J20*0.0036 -> 187500
A21: year 1 fuel cost | B21: =B20*B16*0.0036 -> 468750 | F21: =F20*F16*0.0036 -> 937500 | J21: =B21+F21 -> 1406250
A22: Annual production | B22: =B2*B3*365*24 -> 20833333 | C22: kWhth | D22: =B22*0.0036 -> 75000 | E22: GJ | F22: =F2*F3*365*24 -> 20833333 | G22: kWhth | H22: =F22*0.0036 -> 75000 | I22: GJ | J22: =B22+F22 -> 41666667 | K22: kWhth | L22: =J22*0.0036 -> 150000 | M22: GJ
A23: Initial Capital cost | B23: =B4*B2 -> 8189801.4 | C23: $ | F23: =F4*F2 -> 1214365 | G23: $ | J23: =B23+F23 -> 9404166.4 | K23: $
A24: End of life salvage value | B24: =B13*B23 -> 409490.07 | C24: $ | F24: =F13*F23 -> 60718.25 | G24: $ | J24: =B24+F24 -> 470208.32 | K24: $
A25: Loan amount | B25: =B23*B5 -> 4913880.8 | C25: $ | F25: =F23*F5 -> 728619 | G25: $ | J25: =B25+F25 -> 5642499.8 | K25: $
A26: Equity amount | B26: =B23-B25 -> 3275920.6 | C26: $ | F26: =F23-F25 -> 485746 | G26: $ | J26: =B26+F26 -> 3761666.6 | K26: $
A27: Annualisation factor for loan | B27: =(B7*(1+B7)^B6)/((1+B7)^B6-1) -> 0.14568593 | C27: /year | F27: =(F7*(1+F7)^F6)/((1+F7)^F6-1) -> 0.14568593 | G27: /year | J27: =AVERAGE(B27,F27) -> 0.14568593 | K27: /year
A28: Annual loan payment | B28: =B27*B25 -> 715883.29 | C28: $/year | F28: =F27*F25 -> 106149.53 | G28: $/year | J28: =B28+F28 -> 822032.82 | K28: $/year
A29: Capital recovery factor for nominal discount rate | B29: =(B8*(1+B8)^B12)/((1+B8)^B12-1) -> 0.11745962 | C29: /year | F29: =(F8*(1+F8)^F12)/((1+F8)^F12-1) -> 0.11745962 | G29: /year | J29: =AVERAGE(B29,F29) -> 0.11745962 | K29: /year
A30: Real discount rate for equity | B30: =(1+B8)/(1+B10)-1 -> 0.073170732 | F30: =(1+F8)/(1+F10)-1 -> 0.073170732 | J30: =AVERAGE(B30,F30) -> 0.073170732
A31: Capital recovery factor for real discount | B31: =(B30*(1+B30)^B12)/((1+B30)^B12-1) -> 0.096731649 | F31: =(F30*(1+F30)^F12)/((1+F30)^F12-1) -> 0.096731649 | J31: =AVERAGE(B31,F31) -> 0.096731649
A32: Annual real depreciation (nominal???) | B32: =B23/B11 -> 545986.76 | C32: $ | F32: =F23/F11 -> 80957.667 | G32: $ | J32: =B32+F32 -> 626944.43 | K32: $
A33: Net Present value of annual costs | B33: =-SUM(V50:V89) -> 10877109 | C33: $ | F33: =-SUM(V93:V132) -> 10586057 | G33: $ | J33: =B33+F33 -> 21463166 | K33: $
A34: NPV of salvage after tax | B34: =B24/(1+B8)^B12*(1-B9) -> 60868.09 | C34: $ | F34: =F24/(1+F8)^F12*(1-F9) -> 9025.381 | G34: $ | J34: =B34+F34 -> 69893.471 | K34: $
A35: NPV of project life costs after tax | B35: =B23-B25+B33 -> 14153029 | C35: $ | F35: =F23-F25+F33 -> 11071803 | G35: $ | J35: =B35+F35 -> 25224833 | K35: $
A36: Nominal LCOE (energy sales not taxed) | B36: =B29*B35/B22 -> 0.079795656 | C36: $/kWh | D36: =B36/0.0036 -> 22.16546 | E36: $/GJ | F36: =IF(F29*F35/F22>10000000,"n/a",F29*F35/F22) -> 0.062423514 | G36: $/kWh | H36: =IF(F36="n/a","n/a",F36/0.0036) -> 17.339865 | I36: $/GJ | J36: =J29*J35/J22 -> 0.071109585 | K36: $/kWh | L36: =J36/0.0036 -> 19.752662 | M36: $/GJ
A37: Nominal LCOE (energy sales taxed) | B37: =B36/(1-B9) -> 0.079795656 | C37: $/kWh | D37: =B37/0.0036 -> 22.16546 | E37: $/GJ | F37: =IF(F36="n/a","n/a",F36/(1-F9)) -> 0.062423514 | G37: $/kWh | H37: =IF(F37="n/a","n/a",F37/0.0036) -> 17.339865 | I37: $/GJ | J37: =J36/(1-B9) -> 0.071109585 | K37: $/kWh | L37: =J37/0.0036 -> 19.752662 | M37: $/GJ
A38: Real LCOE (energy sales not taxed) | B38: =B31*B35/B22 -> 0.065714201 | C38: $/kWh | D38: =B38/0.0036 -> 18.253945 | E38: $/GJ | F38: =IF(F31*F35/F22>10000000,"n/a",F31*F35/F22) -> 0.051407703 | G38: $/kWh | H38: =IF(F38="n/a","n/a",F38/0.0036) -> 14.279917 | I38: $/GJ | J38: =J31*J35/J22 -> 0.058560952 | K38: $/kWh | L38: =J38/0.0036 -> 16.266931 | M38: $/GJ
A39: Real LCOE (energy sales taxed) | B39: =B38/(1-B9) -> 0.065714201 | C39: $/kWh | D39: =B39/0.0036 -> 18.253945 | E39: $/GJ | F39: =IF(F38="n/a","n/a",F38/(1-F9)) -> 0.051407703 | G39: $/kWh | H39: =IF(F39="n/a","n/a",F39/0.0036) -> 14.279917 | I39: $/GJ | J39: =J38/(1-B9) -> 0.058560952 | K39: $/kWh | L39: =J39/0.0036 -> 16.266931 | M39: $/GJ
A40: SIMPLE APPROXIMATION
...

Sheet Solar_DCF
A1: Inputs | B1: =' Solar-thermal'!A2 -> Solar thermal | F1: =' Solar-thermal'!A13 -> Backup
A2: Name plate capacity | B2: =' Solar-thermal'!C5 -> 7201.9915 | C2: kWth | F2: =' Solar-thermal'!C14 -> 5000 | G2: kWth
A3: Capacity factor | B3: ='Solar Calculator'!K24 -> 0.330219 | F3: =IFERROR(('General Parameters'!C3-D22)/(F2*8760)/0.0036,0) -> 0.47564688
A4: Installed cost / unit capacity | B4: =IFERROR(' Solar-thermal'!C6/' Solar-thermal'!C5,0) -> 519.42263 | C4: $/kWth | F4: =IFERROR(' Solar-thermal'!C16/' Solar-thermal'!C14,0) -> 242.87303 | G4: $/kWth
A5: Loan fraction of total | B5: ='General Parameters'!C7 -> 0.6 | F5: ='General Parameters'!C7 -> 0.6
A6: Loan period | B6: ='General Parameters'!C8 -> 10 | C6: Years | F6: ='General Parameters'!C8 -> 10 | G6: Years
A7: Loan interest rate (nominal) | B7: ='General Parameters'!C9 -> 0.075 | C7: /year | F7: ='General Parameters'!C9 -> 0.075 | G7: /year
A8: Discount rate for equity (nominal) | B8: ='General Parameters'!C10 -> 0.1 | C8: /year | F8: ='General Parameters'!C10 -> 0.1 | G8: /year
A9: Tax Rate | B9: ='General Parameters'!C11 -> 0 | C9: /year | F9: ='General Parameters'!C11 -> 0 | G9: /year
A10: Inflation | B10: ='General Parameters'!C12 -> 0.025 | C10: /year | F10: ='General Parameters'!C12 -> 0.025 | G10: /year
A11: Depreciation period | B11: ='General Parameters'!C13 -> 15 | C11: year | F11: ='General Parameters'!C13 -> 15 | G11: year
A12: Project Life | B12: ='General Parameters'!C14 -> 20 | C12: year | F12: ='General Parameters'!C14 -> 20 | G12: year
A13: End of life salvage value (%of initial cap) | B13: ='General Parameters'!C15 -> 0.05 | F13: ='General Parameters'!C15 -> 0.05
A14: Variable o&m (year 0) | B14: =' Solar-thermal'!C7 -> 0 | C14: $/GJ | D14: =B14*0.0036 -> 0 | E14: $/kWhth | F14: =' Solar-thermal'!C17 -> 0 | G14: $/GJ | H14: =F14*0.0036 -> 0 | I14: $/kWhth
A15: Fixed O&M (fraction of capital cost/yr in year 0) | B15: =' Solar-thermal'!C8 -> 0.02 | C15: /year | F15: =' Solar-thermal'!C18 -> 0.02 | G15: /year
A16: Cost of input fuel | B16: 0 | C16: $/GJ | D16: =B16*0.0036 -> 0 | E16: $/kWhth | F16: =' Solar-thermal'!C20 -> 10 | G16: $/GJ | H16: =F16*0.0036 -> 0.036 | I16: $/kWhth
A17: Fuel cost escalation rate | B17: 0 | F17: =' Solar-thermal'!C21 -> 0.025
A18: Conversion efficiency | B18: 1 | F18: =' Solar-thermal'!C22 -> 0.8
A19: Calculated | B19: =B1 -> Solar thermal | F19: =F1 -> Backup | J19: Total
A20: annual fuel consumption | B20: 0 | C20: kWhth | D20: 0 | F20: =F22/F18 -> 26041667 | G20: kWhth | H20: =F20*0.0036 -> 93750 | J20: =B20+F20 -> 26041667 | K20: kWhth | L20: =J20*0.0036 -> 93750
A21: year 1 fuel cost | B21: =B20*B16*0.0036 -> 0 | F21: =F20*F16*0.0036 -> 937500 | J21: =B21+F21 -> 937500
A22: Annual production | B22: =B2*B3*365*24 -> 20833333 | C22: kWhth | D22: =B22*0.0036 -> 75000 | E22: GJ | F22: =F2*F3*365*24 -> 20833333 | G22: kWhth | H22: =F22*0.0036 -> 75000 | I22: GJ | J22: =B22+F22 -> 41666667 | K22: kWhth | L22: =J22*0.0036 -> 150000 | M22: GJ
A23: Initial Capital cost | B23: =B4*B2 -> 3740877.4 | C23: $ | F23: =F4*F2 -> 1214365.1 | G23: $ | J23: =B23+F23 -> 4955242.5 | K23: $
A24: End of life salvage value | B24: =B13*B23 -> 187043.87 | C24: $ | F24: =F13*F23 -> 60718.257 | G24: $ | J24: =B24+F24 -> 247762.13 | K24: $
A25: Loan amount | B25: =B23*B5 -> 2244526.4 | C25: $ | F25: =F23*F5 -> 728619.09 | G25: $ | J25: =B25+F25 -> 2973145.5 | K25: $
A26: Equity amount | B26: =B23-B25 -> 1496351 | C26: $ | F26: =F23-F25 -> 485746.06 | G26: $ | J26: =B26+F26 -> 1982097 | K26: $
A27: Annualisation factor for loan | B27: =(B7*(1+B7)^B6)/((1+B7)^B6-1) -> 0.14568593 | C27: /year | F27: =(F7*(1+F7)^F6)/((1+F7)^F6-1) -> 0.14568593 | G27: /year | J27: =AVERAGE(B27,F27) -> 0.14568593 | K27: /year
A28: Annual loan payment | B28: =B27*B25 -> 326995.92 | C28: $/year | F28: =F27*F25 -> 106149.55 | G28: $/year | J28: =B28+F28 -> 433145.46 | K28: $/year
A29: Capital recovery factor for nominal discount rate | B29: =(B8*(1+B8)^B12)/((1+B8)^B12-1) -> 0.11745962 | C29: /year | F29: =(F8*(1+F8)^F12)/((1+F8)^F12-1) -> 0.11745962 | G29: /year | J29: =AVERAGE(B29,F29) -> 0.11745962 | K29: /year
A30: Real discount rate for equity | B30: =(1+B8)/(1+B10)-1 -> 0.073170732 | F30: =(1+F8)/(1+F10)-1 -> 0.073170732 | J30: =AVERAGE(B30,F30) -> 0.073170732
A31: Capital recovery factor for real discount | B31: =(B30*(1+B30)^B12)/((1+B30)^B12-1) -> 0.096731649 | F31: =(F30*(1+F30)^F12)/((1+F30)^F12-1) -> 0.096731649 | J31: =AVERAGE(B31,F31) -> 0.096731649
A32: Annual real depreciation (nominal???) | B32: =B23/B11 -> 249391.83 | C32: $ | F32: =F23/F11 -> 80957.676 | G32: $ | J32: =B32+F32 -> 330349.5 | K32: $
A33: Net Present value of annual costs | B33: =-SUM(V50:V89) -> 2754900.2 | C33: $ | F33: =-SUM(V93:V132) -> 10586058 | G33: $ | J33: =B33+F33 -> 13340958 | K33: $
A34: NPV of salvage after tax | B34: =B24/(1+B8)^B12*(1-B9) -> 27802.879 | C34: $ | F34: =F24/(1+F8)^F12*(1-F9) -> 9025.3821 | G34: $ | J34: =B34+F34 -> 36828.261 | K34: $
A35: NPV of project life costs after tax | B35: =B23-B25+B33 -> 4251251.1 | C35: $ | F35: =F23-F25+F33 -> 11071804 | G35: $ | J35: =B35+F35 -> 15323055 | K35: $
A36: Nominal LCOE (energy sales not taxed) | B36: =B29*B35/B22 -> 0.023968817 | C36: $/kWh | D36: =B36/0.0036 -> 6.6580048 | E36: $/GJ | F36: =IF(F29*F35/F22>10000000,"n/a",F29*F35/F22) -> 0.062423515 | G36: $/kWh | H36: =IF(F36="n/a","n/a",F36/0.0036) -> 17.339865 | I36: $/GJ | J36: =J29*J35/J22 -> 0.043196166 | K36: $/kWh | L36: =J36/0.0036 -> 11.998935 | M36: $/GJ
A37: Nominal LCOE (energy sales taxed) | B37: =B36/(1-B9) -> 0.023968817 | C37: $/kWh | D37: =B37/0.0036 -> 6.6580048 | E37: $/GJ | F37: =IF(F36="n/a","n/a",F36/(1-F9)) -> 0.062423515 | G37: $/kWh | H37: =IF(F37="n/a","n/a",F37/0.0036) -> 17.339865 | I37: $/GJ | J37: =J36/(1-B9) -> 0.043196166 | K37: $/kWh | L37: =J37/0.0036 -> 11.998935 | M37: $/GJ
A38: Real LCOE (energy sales not taxed) | B38: =B31*B35/B22 -> 0.019739066 | C38: $/kWh | D38: =B38/0.0036 -> 5.4830738 | E38: $/GJ | F38: =IF(F31*F35/F22>10000000,"n/a",F31*F35/F22) -> 0.051407704 | G38: $/kWh | H38: =IF(F38="n/a","n/a",F38/0.0036) -> 14.279918 | I38: $/GJ | J38: =J31*J35/J22 -> 0.035573385 | K38: $/kWh | L38: =J38/0.0036 -> 9.8814957 | M38: $/GJ
A39: Real LCOE (energy sales taxed) | B39: =B38/(1-B9) -> 0.019739066 | C39: $/kWh | D39: =B39/0.0036 -> 5.4830738 | E39: $/GJ | F39: =IF(F38="n/a","n/a",F38/(1-F9)) -> 0.051407704 | G39: $/kWh | H39: =IF(F39="n/a","n/a",F39/0.0036) -> 14.279918 | I39: $/GJ | J39: =J38/(1-B9) -> 0.035573385 | K39: $/kWh | L39: =J39/0.0036 -> 9.8814957 | M39: $/GJ
A40: SIMPLE APPROXIMATION
...

Sheet HeatPump_DCF
A1: OPTION 1
A2: USER INPUTS | B2: Do not edit tan cells
A3: Name plate capacity | B3: ='Heat Pump'!C5 -> 1274.6801 | C3: kWe
A4: Capacity factor | B4: ='Heat Pump'!C4 -> 0.8
A5: Installed cost / unit capacity | B5: ='Heat Pump'!H18*'Heat Pump'!H19 -> 873.99207 | C5: $/kWe
A6: Loan fraction of total | B6: ='General Parameters'!C7 -> 0.6
A7: Loan period | B7: ='General Parameters'!C8 -> 10 | C7: Years
A8: Loan interest rate (nominal) | B8: ='General Parameters'!C9 -> 0.075 | C8: /year
A9: Discount rate for equity (nominal) | B9: ='General Parameters'!C10 -> 0.1 | C9: /year
A10: Tax Rate | B10: ='General Parameters'!C11 -> 0 | C10: /year
A11: Depreciation period | B11: ='General Parameters'!C13 -> 15 | C11: year
A12: Project Life | B12: ='General Parameters'!C14 -> 20 | C12: year
A13: End of life salvage value (%of initial cap) | B13: ='General Parameters'!C15 -> 0.05 | C13: /year
A14: Variable o&m (year 0) | B14: ='Heat Pump'!C7 -> 0 | C14: $/GJ | D14: =B14/0.0036 -> 0 | E14: $/kWhth
A15: Fixed O&M (fraction of capital cost/yr in year 0) | B15: ='Heat Pump'!C8 -> 0.02 | C15: /year
A16: Inflation | B16: ='General Parameters'!C12 -> 0.025 | C16: /year
A17: Cost of input fuel | B17: =D17/0.0036 -> 27.777778 | C17: $/GJ | D17: ='Heat Pump'!C10/100 -> 0.1 | E17: $/kWhth
A18: Fuel cost escalation rate | B18: ='Heat Pump'!C11 -> 0.025
A19: Heat output to electrical input | B19: ='Heat Pump'!H17 -> 2.3321875
A20: CALCULATED
A21: annual fuel consumption | B21: =B23/B19 -> 8932958.1 | C21: kWhth | D21: =D23/B19 -> 32158.649 | E21: GJ
A22: year 1 fuel cost | B22: =B21*B17*0.0036 -> 893295.81
A23: Annual production | B23: =B3*B4*365*24*B19 -> 20833333 | C23: kWhth | D23: =B23*0.0036 -> 75000 | E23: GJ
A24: Initial Capital cost | B24: =B5*B3 -> 1114060.3 | C24: $
A25: End of life salvage value | B25: =B13*B24 -> 55703.015 | C25: $
A26: Loan amount | B26: =B24*B6 -> 668436.18 | C26: $
A27: Equity amount | B27: =B24-B26 -> 445624.12 | C27: $
A28: Annualisation factor for loan | B28: =(B8*(1+B8)^B7)/((1+B8)^B7-1) -> 0.14568593 | C28: /year
A29: Annual loan payment | B29: =B28*B26 -> 97381.745 | C29: $/year
A30: Capital recovery factor for nominal discount rate | B30: =(B9*(1+B9)^B12)/((1+B9)^B12-1) -> 0.11745962 | C30: /year
A31: Real discount rate for equity | B31: =(1+B9)/(1+B16)-1 -> 0.073170732
A32: Capital recovery factor for real discount | B32: =(B31*(1+B31)^B12)/((1+B31)^B12-1) -> 0.096731649
A33: Annual real depreciation (nominal???) | B33: =B24/B11 -> 74270.687 | C33: $
A34: Net Present value of annual costs | B34: =-SUM(HeatPump_DCF!V50:V89) -> 10055212 | C34: $
A35: NPV of salvage after tax | B35: =B25/(1+B9)^B12*(1-B10) -> 8279.8982 | C35: $
A36: NPV of project life costs after tax | B36: =B24-B26+B34 -> 10500837 | C36: $
A37: Nominal LCOE (energy sales not taxed) | B37: =B30*$B$36/($B$23) -> 0.059204367 | C37: $/kWh | D37: =B37/0.0036 -> 16.445658 | E37: $/GJ
A38: Nominal LCOE (energy sales taxed) | B38: =B37/(1-B10) -> 0.059204367 | C38: $/kWh | D38: =B38/0.0036 -> 16.445658 | E38: $/GJ
A39: Real LCOE (energy sales not taxed) | B39: =B32*$B$36/($B$23) -> 0.048756635 | C39: $/kWh | D39: =B39/0.0036 -> 13.54351 | E39: $/GJ
A40: Real LCOE (energy sales taxed) | B40: =B39/(1-B10) -> 0.048756635 | C40: $/kWh | D40: =B40/0.0036 -> 13.54351 | E40: $/GJ
...

Sheet Geo_DCF
A1: OPTION 1
A2: USER INPUTS | B2: Do not edit tan cells
A3: Name plate capacity | B3: =Geothermal!C7 -> 3348.8 | C3: kWe
A4: Capacity factor | B4: =Geothermal!C3*'General Parameters'!C3*1000/(Geo_DCF!B3*8760*3.6) -> 0.99424515
A5: Installed cost / unit capacity | B5: =Geothermal!H20/Geothermal!C7 -> 1624.4625 | C5: $/kWe
A6: Loan fraction of total | B6: ='General Parameters'!C7 -> 0.6
A7: Loan period | B7: ='General Parameters'!C8 -> 10 | C7: Years
A8: Loan interest rate (nominal) | B8: ='General Parameters'!C9 -> 0.075 | C8: /year
A9: Discount rate for equity (nominal) | B9: ='General Parameters'!C10 -> 0.1 | C9: /year
A10: Tax Rate | B10: ='General Parameters'!C11 -> 0 | C10: /year
A11: Depreciation period | B11: ='General Parameters'!C13 -> 15 | C11: year
A12: Project Life | B12: ='General Parameters'!C14 -> 20 | C12: year
A13: End of life salvage value (%of initial cap) | B13: ='General Parameters'!C15 -> 0.05 | C13: /year
A14: Variable o&m (year 0) | B14: ='Heat Pump'!C7 -> 0 | C14: $/GJ | D14: =B14/0.0036 -> 0 | E14: $/kWhth
A15: Fixed O&M (fraction of capital cost/yr in year 0) | B15: ='Heat Pump'!C8 -> 0.02 | C15: /year
A16: Inflation | B16: ='General Parameters'!C12 -> 0.025 | C16: /year
A17: Cost of input fuel | B17: =D17/0.0036 -> 27.777778 | C17: $/GJ | D17: =Geothermal!C13/100 -> 0.1 | E17: $/kWhth
A18: Fuel cost escalation rate | B18: =Baseline!C11 -> 0.025
A19: Heat output to electrical input | B19: =1/D19 -> 41.90784 | D19: =B4*(Geothermal!H16/1600+Geothermal!C5/25)/100 -> 0.023861884
A20: CALCULATED
A21: annual fuel consumption | B21: =B23/B19 -> 695971.6 | C21: kWhth | D21: =D23/B19 -> 2505.4978 | E21: GJ
A22: year 1 fuel cost | B22: =B21*B17*0.0036 -> 69597.16
A23: Annual production | B23: =B3*B4*365*24 -> 29166667 | C23: kWhth | D23: =B23*0.0036 -> 105000 | E23: GJ
A24: Initial Capital cost | B24: =B5*B3 -> 5440000 | C24: $
A25: End of life salvage value | B25: =B13*B24 -> 272000 | C25: $
A26: Loan amount | B26: =B24*B6 -> 3264000 | C26: $
A27: Equity amount | B27: =B24-B26 -> 2176000 | C27: $
A28: Annualisation factor for loan | B28: =(B8*(1+B8)^B7)/((1+B8)^B7-1) -> 0.14568593 | C28: /year
A29: Annual loan payment | B29: =B28*B26 -> 475518.87 | C29: $/year
A30: Capital recovery factor for nominal discount rate | B30: =(B9*(1+B9)^B12)/((1+B9)^B12-1) -> 0.11745962 | C30: /year
A31: Real discount rate for equity | B31: =(1+B9)/(1+B16)-1 -> 0.073170732
A32: Capital recovery factor for real discount | B32: =(B31*(1+B31)^B12)/((1+B31)^B12-1) -> 0.096731649
A33: Annual real depreciation (nominal???) | B33: =B24/B11 -> 362666.67 | C33: $
A34: Net Present value of annual costs | B34: =-SUM(Geo_DCF!V50:V89) -> 4725674.6 | C34: $
A35: NPV of salvage after tax | B35: =B25/(1+B9)^B12*(1-B10) -> 40431.067 | C35: $
A36: NPV of project life costs after tax | B36: =B24-B26+B34 -> 6901674.6 | C36: $
A37: Nominal LCOE (energy sales not taxed) | B37: =B30*$B$36/($B$23) -> 0.027794335 | C37: $/kWh | D37: =B37/0.0036 -> 7.7206487 | E37: $/GJ
A38: Nominal LCOE (energy sales taxed) | B38: =B37/(1-B10) -> 0.027794335 | C38: $/kWh | D38: =B38/0.0036 -> 7.7206487 | E38: $/GJ
A39: Real LCOE (energy sales not taxed) | B39: =B32*$B$36/($B$23) -> 0.022889498 | C39: $/kWh | D39: =B39/0.0036 -> 6.358194 | E39: $/GJ
A40: Real LCOE (energy sales taxed) | B40: =B39/(1-B10) -> 0.022889498 | C40: $/kWh | D40: =B40/0.0036 -> 6.358194 | E40: $/GJ
...

Sheet Other_DCF
A1: Inputs | B1: =Other!A2 -> Other | F1: =Other!A13 -> Backup
A2: Name plate capacity | B2: =Other!C4 -> 5000 | C2: kWth | F2: =Other!C14 -> 5000 | G2: kWth
A3: Capacity factor | B3: =Other!C3*Other!H7/(Other!C4*8760*0.0036) -> 0.76103501 | F3: =IFERROR(('General Parameters'!C3-D22)/(F2*8760)/0.0036,0) -> 0.19025875
A4: Installed cost / unit capacity | B4: =IFERROR(Other!C6/Other!C4,0) -> 1637.9603 | C4: $/kWth | F4: =IFERROR(Other!C16/Other!C14,0) -> 242.87303 | G4: $/kWth
A5: Loan fraction of total | B5: ='General Parameters'!C7 -> 0.6 | F5: ='General Parameters'!C7 -> 0.6
A6: Loan period | B6: ='General Parameters'!C8 -> 10 | C6: Years | F6: ='General Parameters'!C8 -> 10 | G6: Years
A7: Loan interest rate (nominal) | B7: ='General Parameters'!C9 -> 0.075 | C7: /year | F7: ='General Parameters'!C9 -> 0.075 | G7: /year
A8: Discount rate for equity (nominal) | B8: ='General Parameters'!C10 -> 0.1 | C8: /year | F8: ='General Parameters'!C10 -> 0.1 | G8: /year
A9: Tax Rate | B9: ='General Parameters'!C11 -> 0 | C9: /year | F9: ='General Parameters'!C11 -> 0 | G9: /year
A10: Inflation | B10: ='General Parameters'!C12 -> 0.025 | C10: /year | F10: ='General Parameters'!C12 -> 0.025 | G10: /year
A11: Depreciation period | B11: ='General Parameters'!C13 -> 15 | C11: year | F11: ='General Parameters'!C13 -> 15 | G11: year
A12: Project Life | B12: ='General Parameters'!C14 -> 20 | C12: year | F12: ='General Parameters'!C14 -> 20 | G12: year
A13: End of life salvage value (%of initial cap) | B13: ='General Parameters'!C15 -> 0.05 | F13: ='General Parameters'!C15 -> 0.05
A14: Variable o&m (year 0) | B14: =Other!C7 -> 0 | C14: $/GJ | D14: =B14*0.0036 -> 0 | E14: $/kWhth | F14: =Other!C17 -> 0 | G14: $/GJ | H14: =F14*0.0036 -> 0 | I14: $/kWhth
A15: Fixed O&M (fraction of capital cost/yr in year 0) | B15: =Other!C8 -> 0.02 | C15: /year | F15: =Other!C18 -> 0.02 | G15: /year
A16: Cost of input fuel | B16: =Other!C10 -> 0 | C16: $/GJ | D16: =B16*0.0036 -> 0 | E16: $/kWhth | F16: =Other!C20 -> 10 | G16: $/GJ | H16: =F16*0.0036 -> 0.036 | I16: $/kWhth
A17: Fuel cost escalation rate | B17: =Other!C11 -> 0.025 | F17: =Other!C21 -> 0.025
A18: Conversion efficiency | B18: =Other!C12 -> 0.8 | F18: =Other!C22 -> 0.8
A19: Calculated | B19: =B1 -> Other | F19: =F1 -> Backup | J19: Total
A20: annual fuel consumption | B20: =B22/B18 -> 41666667 | C20: kWhth | D20: =B20*0.0036 -> 150000 | F20: =F22/F18 -> 10416667 | G20: kWhth | H20: =F20*0.0036 -> 37500 | J20: =B20+F20 -> 52083333 | K20: kWhth | L20: =J20*0.0036 -> 187500
A21: year 1 fuel cost | B21: =B20*B16*0.0036 -> 0 | F21: =F20*F16*0.0036 -> 375000 | J21: =B21+F21 -> 375000
A22: Annual production | B22: =B2*B3*365*24 -> 33333333 | C22: kWhth | D22: =B22*0.0036 -> 120000 | E22: GJ | F22: =F2*F3*365*24 -> 8333333.3 | G22: kWhth | H22: =F22*0.0036 -> 30000 | I22: GJ | J22: =B22+F22 -> 41666667 | K22: kWhth | L22: =J22*0.0036 -> 150000 | M22: GJ
A23: Initial Capital cost | B23: =B4*B2 -> 8189801.4 | C23: $ | F23: =F4*F2 -> 1214365.1 | G23: $ | J23: =B23+F23 -> 9404166.5 | K23: $
A24: End of life salvage value | B24: =B13*B23 -> 409490.07 | C24: $ | F24: =F13*F23 -> 60718.257 | G24: $ | J24: =B24+F24 -> 470208.33 | K24: $
A25: Loan amount | B25: =B23*B5 -> 4913880.8 | C25: $ | F25: =F23*F5 -> 728619.09 | G25: $ | J25: =B25+F25 -> 5642499.9 | K25: $
A26: Equity amount | B26: =B23-B25 -> 3275920.6 | C26: $ | F26: =F23-F25 -> 485746.06 | G26: $ | J26: =B26+F26 -> 3761666.6 | K26: $
A27: Annualisation factor for loan | B27: =(B7*(1+B7)^B6)/((1+B7)^B6-1) -> 0.14568593 | C27: /year | F27: =(F7*(1+F7)^F6)/((1+F7)^F6-1) -> 0.14568593 | G27: /year | J27: =AVERAGE(B27,F27) -> 0.14568593 | K27: /year
A28: Annual loan payment | B28: =B27*B25 -> 715883.29 | C28: $/year | F28: =F27*F25 -> 106149.55 | G28: $/year | J28: =B28+F28 -> 822032.84 | K28: $/year
A29: Capital recovery factor for nominal discount rate | B29: =(B8*(1+B8)^B12)/((1+B8)^B12-1) -> 0.11745962 | C29: /year | F29: =(F8*(1+F8)^F12)/((1+F8)^F12-1) -> 0.11745962 | G29: /year | J29: =AVERAGE(B29,F29) -> 0.11745962 | K29: /year
A30: Real discount rate for equity | B30: =(1+B8)/(1+B10)-1 -> 0.073170732 | F30: =(1+F8)/(1+F10)-1 -> 0.073170732 | J30: =AVERAGE(B30,F30) -> 0.073170732
A31: Capital recovery factor for real discount | B31: =(B30*(1+B30)^B12)/((1+B30)^B12-1) -> 0.096731649 | F31: =(F30*(1+F30)^F12)/((1+F30)^F12-1) -> 0.096731649 | J31: =AVERAGE(B31,F31) -> 0.096731649
